BEGIN:VCALENDAR
VERSION:2.0
PRODID:-//Tukios.com/
BEGIN:VEVENT
UID:e23313b7-e7e7-4e09-9cfe-048a35b83b86@www.mckibbenandguinn.com
DTSTAMP:20260420T022502Z
DTSTART:20260421T180000Z
DTEND:20260421T190000Z
SUMMARY:Visitation
DESCRIPTION:
URL:https://www.mckibbenandguinn.com/obituaries/jimmy-whitten
LOCATION:McKibben and Guinn Funeral Service 4817 Commerce St  Grenada MS 
	38901
GEO:33.730701;-89.7934066
END:VEVENT
END:VCALENDAR