BEGIN:VCALENDAR
VERSION:2.0
PRODID:-//Tukios.com/
BEGIN:VEVENT
UID:4fcaeaf8-5a2f-40aa-b6c7-857e77627e27@www.mckibbenandguinn.com
DTSTAMP:20260420T021752Z
DTSTART:20260421T190000Z
DTEND:20260421T200000Z
SUMMARY:Funeral Service
DESCRIPTION:
URL:https://www.mckibbenandguinn.com/obituaries/jimmy-whitten
LOCATION:McKibben and Guinn Funeral Service 4817 Commerce St  Grenada MS 
	38901
GEO:33.730701;-89.7934066
END:VEVENT
END:VCALENDAR