BEGIN:VCALENDAR
VERSION:2.0
PRODID:-//Tukios.com/
BEGIN:VEVENT
UID:976e0deb-2f51-4664-960a-a4d10b2e4f3f@www.mckibbenandguinn.com
DTSTAMP:20260426T001148Z
DTSTART:20260427T170000Z
DTEND:20260427T190000Z
SUMMARY:Visitation
DESCRIPTION:
URL:https://www.mckibbenandguinn.com/obituaries/larry-blanton
LOCATION:McKibben and Guinn Funeral Service 4817 Commerce St  Grenada MS 
	38901
GEO:33.730701;-89.7934066
END:VEVENT
END:VCALENDAR