BEGIN:VCALENDAR
VERSION:2.0
PRODID:-//Tukios.com/
BEGIN:VEVENT
UID:5799ee50-e90a-4ca0-97d3-6b75e6786a36@www.mckibbenandguinn.com
DTSTAMP:20260426T000142Z
DTSTART:20260427T190000Z
DTEND:20260427T200000Z
SUMMARY:Funeral Service
DESCRIPTION:
URL:https://www.mckibbenandguinn.com/obituaries/larry-blanton
LOCATION:McKibben and Guinn Funeral Service 4817 Commerce St  Grenada MS 
	38901
GEO:33.730701;-89.7934066
END:VEVENT
END:VCALENDAR